BEGIN:VCALENDAR
VERSION:2.0
PRODID:-//BISAWAKE......... Développer son plein potentiel - ECPv6.15.20//NONSGML v1.0//EN
CALSCALE:GREGORIAN
METHOD:PUBLISH
X-WR-CALNAME:BISAWAKE......... Développer son plein potentiel
X-ORIGINAL-URL:https://bisawake.com
X-WR-CALDESC:Évènements pour BISAWAKE......... Développer son plein potentiel
REFRESH-INTERVAL;VALUE=DURATION:PT1H
X-Robots-Tag:noindex
X-PUBLISHED-TTL:PT1H
BEGIN:VTIMEZONE
TZID:Europe/Paris
BEGIN:DAYLIGHT
TZOFFSETFROM:+0100
TZOFFSETTO:+0200
TZNAME:CEST
DTSTART:20250330T010000
END:DAYLIGHT
BEGIN:STANDARD
TZOFFSETFROM:+0200
TZOFFSETTO:+0100
TZNAME:CET
DTSTART:20251026T010000
END:STANDARD
BEGIN:DAYLIGHT
TZOFFSETFROM:+0100
TZOFFSETTO:+0200
TZNAME:CEST
DTSTART:20260329T010000
END:DAYLIGHT
BEGIN:STANDARD
TZOFFSETFROM:+0200
TZOFFSETTO:+0100
TZNAME:CET
DTSTART:20261025T010000
END:STANDARD
BEGIN:DAYLIGHT
TZOFFSETFROM:+0100
TZOFFSETTO:+0200
TZNAME:CEST
DTSTART:20270328T010000
END:DAYLIGHT
BEGIN:STANDARD
TZOFFSETFROM:+0200
TZOFFSETTO:+0100
TZNAME:CET
DTSTART:20271031T010000
END:STANDARD
BEGIN:DAYLIGHT
TZOFFSETFROM:+0100
TZOFFSETTO:+0200
TZNAME:CEST
DTSTART:20280326T010000
END:DAYLIGHT
BEGIN:STANDARD
TZOFFSETFROM:+0200
TZOFFSETTO:+0100
TZNAME:CET
DTSTART:20281029T010000
END:STANDARD
END:VTIMEZONE
BEGIN:VEVENT
DTSTART;TZID=Europe/Paris:20260507T190000
DTEND;TZID=Europe/Paris:20260507T233000
DTSTAMP:20260422T043823
CREATED:20220120T222624Z
LAST-MODIFIED:20260121T102306Z
UID:7412-1778180400-1778196600@bisawake.com
SUMMARY:Rencontre « Je développe ma créativité en lien avec les 13 Mères Originelles » – en présentiel
DESCRIPTION:
URL:https://bisawake.com/event/rencontre-je-developpe-ma-creativite-en-lien-avec-les-13-meres-originelles-en-presentiel-lsf-langue-des-signes-7/
LOCATION:BISAWAKE\, 10 rue du préau\, Carbonne\, Haute Garonne\, 31390\, France
ATTACH;FMTTYPE=image/jpeg:https://bisawake.com/wp-content/uploads/2021/02/149085059_3807640759296569_7035855883471908318_n.jpg
END:VEVENT
BEGIN:VEVENT
DTSTART;TZID=Europe/Paris:20260520T190000
DTEND;TZID=Europe/Paris:20260520T210000
DTSTAMP:20260422T043823
CREATED:20240912T152728Z
LAST-MODIFIED:20260121T100647Z
UID:8959-1779303600-1779310800@bisawake.com
SUMMARY:Création de mon Mandala d'après la Roue de Médecine
DESCRIPTION:
URL:https://bisawake.com/event/creation-de-mon-mandala-3/
LOCATION:BISAWAKE\, 10 rue du préau\, Carbonne\, Haute Garonne\, 31390\, France
ATTACH;FMTTYPE=image/jpeg:https://bisawake.com/wp-content/uploads/2021/04/1593259711275-1-rotated.jpg
END:VEVENT
BEGIN:VEVENT
DTSTART;TZID=Europe/Paris:20260606T130000
DTEND;TZID=Europe/Paris:20260606T173000
DTSTAMP:20260422T043823
CREATED:20221123T203718Z
LAST-MODIFIED:20260121T095239Z
UID:8195-1780750800-1780767000@bisawake.com
SUMMARY:Constellation Familiale avec interprète en langue des signes
DESCRIPTION:Pour plus d’informations ou pour s’inscrire : Alexandra au 06 63 10 87 89 \nNous constellerons 2 personnes et nous limitons les inscriptions à 12 personnes
URL:https://bisawake.com/event/constellation-familiale-4/
LOCATION:BISAWAKE\, 10 rue du préau\, Carbonne\, Haute Garonne\, 31390\, France
ATTACH;FMTTYPE=image/jpeg:https://bisawake.com/wp-content/uploads/2019/10/Resized_20191004_230810_9497.jpg
ORGANIZER;CN="Alexandra et Emma":MAILTO:events@bisawake.com
END:VEVENT
BEGIN:VEVENT
DTSTART;TZID=Europe/Paris:20260611T190000
DTEND;TZID=Europe/Paris:20260611T233000
DTSTAMP:20260422T043823
CREATED:20220120T163455Z
LAST-MODIFIED:20260121T102341Z
UID:7404-1781204400-1781220600@bisawake.com
SUMMARY:Rencontre « Je développe ma créativité en lien avec les 13 Mères Originelles » – en présentiel
DESCRIPTION:
URL:https://bisawake.com/event/rencontre-je-developpe-ma-creativite-en-lien-avec-les-13-meres-originelles-en-presentiel-lsf-langue-des-signes-6/
LOCATION:BISAWAKE\, 10 rue du préau\, Carbonne\, Haute Garonne\, 31390\, France
ATTACH;FMTTYPE=image/jpeg:https://bisawake.com/wp-content/uploads/2021/02/149085059_3807640759296569_7035855883471908318_n.jpg
END:VEVENT
BEGIN:VEVENT
DTSTART;TZID=Europe/Paris:20260617T190000
DTEND;TZID=Europe/Paris:20260617T210000
DTSTAMP:20260422T043823
CREATED:20240912T152610Z
LAST-MODIFIED:20260121T100728Z
UID:8957-1781722800-1781730000@bisawake.com
SUMMARY:Création de mon Mandala d'après la Roue de Médecine
DESCRIPTION:
URL:https://bisawake.com/event/creation-de-mon-mandala-2/
LOCATION:BISAWAKE\, 10 rue du préau\, Carbonne\, Haute Garonne\, 31390\, France
ATTACH;FMTTYPE=image/jpeg:https://bisawake.com/wp-content/uploads/2021/04/1593259711275-1-rotated.jpg
END:VEVENT
BEGIN:VEVENT
DTSTART;TZID=Europe/Paris:20260709T190000
DTEND;TZID=Europe/Paris:20260709T233000
DTSTAMP:20260422T043823
CREATED:20220120T162655Z
LAST-MODIFIED:20260121T102430Z
UID:7394-1783623600-1783639800@bisawake.com
SUMMARY:Rencontre « Je développe ma créativité en lien avec les 13 Mères Originelles » – en présentiel
DESCRIPTION:
URL:https://bisawake.com/event/rencontre-je-developpe-ma-creativite-en-lien-avec-les-13-meres-originelles-en-presentiel-lsf-langue-des-signes-5/
LOCATION:BISAWAKE\, 10 rue du préau\, Carbonne\, Haute Garonne\, 31390\, France
ATTACH;FMTTYPE=image/jpeg:https://bisawake.com/wp-content/uploads/2021/02/149085059_3807640759296569_7035855883471908318_n.jpg
END:VEVENT
BEGIN:VEVENT
DTSTART;TZID=Europe/Paris:20260722T190000
DTEND;TZID=Europe/Paris:20260722T210000
DTSTAMP:20260422T043823
CREATED:20240912T152441Z
LAST-MODIFIED:20260121T100851Z
UID:8955-1784746800-1784754000@bisawake.com
SUMMARY:Création de mon Mandala d'après La roue de Médecine
DESCRIPTION:
URL:https://bisawake.com/event/creation-de-mon-mandala/
LOCATION:BISAWAKE\, 10 rue du préau\, Carbonne\, Haute Garonne\, 31390\, France
ATTACH;FMTTYPE=image/jpeg:https://bisawake.com/wp-content/uploads/2021/04/1593259711275-rotated.jpg
END:VEVENT
BEGIN:VEVENT
DTSTART;VALUE=DATE:20260726
DTEND;VALUE=DATE:20260727
DTSTAMP:20260422T043823
CREATED:20220802T133733Z
LAST-MODIFIED:20251010T095928Z
UID:8039-1785024000-1785110399@bisawake.com
SUMMARY:Le Festival des P'tits Bonheurs
DESCRIPTION:
URL:https://bisawake.com/event/le-festival-des-ptits-bonheurs/
LOCATION:Salle des fêtes de Saveres 31370\, Saveres\, Haute garonne\, 31370\, France
ATTACH;FMTTYPE=image/jpeg:https://bisawake.com/wp-content/uploads/2022/08/20250803_102831-scaled.jpg
END:VEVENT
BEGIN:VEVENT
DTSTART;TZID=Europe/Paris:20260806T190000
DTEND;TZID=Europe/Paris:20260806T233000
DTSTAMP:20260422T043823
CREATED:20220120T162043Z
LAST-MODIFIED:20260121T102731Z
UID:7386-1786042800-1786059000@bisawake.com
SUMMARY:Rencontre « Je développe ma créativité en lien avec les 13 Mères Originelles » -en présentiel
DESCRIPTION:
URL:https://bisawake.com/event/rencontre-je-developpe-ma-creativite-en-lien-avec-les-13-meres-originelles-soiree-celebration-des-13-meres/
LOCATION:BISAWAKE\, 10 rue du préau\, Carbonne\, Haute Garonne\, 31390\, France
ATTACH;FMTTYPE=image/jpeg:https://bisawake.com/wp-content/uploads/2021/10/IMG_5238-scaled.jpg
END:VEVENT
BEGIN:VEVENT
DTSTART;TZID=Europe/Paris:20260826T190000
DTEND;TZID=Europe/Paris:20260826T210000
DTSTAMP:20260422T043823
CREATED:20260121T101056Z
LAST-MODIFIED:20260121T101056Z
UID:9166-1787770800-1787778000@bisawake.com
SUMMARY:Création de mon Mandala d'après la Roue de Médecine
DESCRIPTION:
URL:https://bisawake.com/event/creation-de-mon-mandala-dapres-la-roue-de-medecine/
ATTACH;FMTTYPE=image/jpeg:https://bisawake.com/wp-content/uploads/2021/04/1593259711275-rotated.jpg
END:VEVENT
BEGIN:VEVENT
DTSTART;TZID=Europe/Paris:20260910T190000
DTEND;TZID=Europe/Paris:20260910T233000
DTSTAMP:20260422T043823
CREATED:20220120T161848Z
LAST-MODIFIED:20260121T102804Z
UID:7384-1789066800-1789083000@bisawake.com
SUMMARY:Rencontre « Je développe ma créativité en lien avec les 13 Mères Originelles » – en présentiel
DESCRIPTION:
URL:https://bisawake.com/event/rencontre-je-developpe-ma-creativite-en-lien-avec-les-13-meres-originelles-en-presentiel-lsf-langue-des-signes-4/
LOCATION:BISAWAKE\, 10 rue du préau\, Carbonne\, Haute Garonne\, 31390\, France
ATTACH;FMTTYPE=image/jpeg:https://bisawake.com/wp-content/uploads/2021/02/149085059_3807640759296569_7035855883471908318_n.jpg
END:VEVENT
BEGIN:VEVENT
DTSTART;TZID=Europe/Paris:20260923T190000
DTEND;TZID=Europe/Paris:20260923T210000
DTSTAMP:20260422T043823
CREATED:20260121T101215Z
LAST-MODIFIED:20260121T101215Z
UID:9168-1790190000-1790197200@bisawake.com
SUMMARY:Création de mon Mandala d'après la Roue de Médecine
DESCRIPTION:
URL:https://bisawake.com/event/creation-de-mon-mandala-dapres-la-roue-de-medecine-2/
ATTACH;FMTTYPE=image/jpeg:https://bisawake.com/wp-content/uploads/2022/01/20211027_235138-scaled.jpg
END:VEVENT
BEGIN:VEVENT
DTSTART;TZID=Europe/Paris:20261008T190000
DTEND;TZID=Europe/Paris:20261008T233000
DTSTAMP:20260422T043823
CREATED:20220120T161603Z
LAST-MODIFIED:20260121T102849Z
UID:7382-1791486000-1791502200@bisawake.com
SUMMARY:Rencontre « Je développe ma créativité en lien avec les 13 Mères Originelles » – en présentiel
DESCRIPTION:
URL:https://bisawake.com/event/rencontre-je-developpe-ma-creativite-en-lien-avec-les-13-meres-originelles-en-presentiel-lsf-langue-des-signes-3/
LOCATION:BISAWAKE\, 10 rue du préau\, Carbonne\, Haute Garonne\, 31390\, France
ATTACH;FMTTYPE=image/jpeg:https://bisawake.com/wp-content/uploads/2021/02/149085059_3807640759296569_7035855883471908318_n.jpg
END:VEVENT
BEGIN:VEVENT
DTSTART;TZID=Europe/Paris:20261021T190000
DTEND;TZID=Europe/Paris:20261021T210000
DTSTAMP:20260422T043823
CREATED:20260121T101417Z
LAST-MODIFIED:20260121T101417Z
UID:9170-1792609200-1792616400@bisawake.com
SUMMARY:Création de mon Mandala d'après la Roue de Médecine
DESCRIPTION:
URL:https://bisawake.com/event/creation-de-mon-mandala-dapres-la-roue-de-medecine-3/
ATTACH;FMTTYPE=image/jpeg:https://bisawake.com/wp-content/uploads/2022/01/20211027_235138-scaled.jpg
END:VEVENT
BEGIN:VEVENT
DTSTART;TZID=Europe/Paris:20261105T190000
DTEND;TZID=Europe/Paris:20261105T233000
DTSTAMP:20260422T043823
CREATED:20220120T161135Z
LAST-MODIFIED:20260121T103012Z
UID:7376-1793905200-1793921400@bisawake.com
SUMMARY:Rencontre « Je développe ma créativité en lien avec les 13 Mères Originelles » – en présentiel
DESCRIPTION:
URL:https://bisawake.com/event/rencontre-je-developpe-ma-creativite-en-lien-avec-les-13-meres-originelles-en-presentiel-12/
ATTACH;FMTTYPE=image/jpeg:https://bisawake.com/wp-content/uploads/2021/12/IMG-20210513-WA0014.jpg
END:VEVENT
BEGIN:VEVENT
DTSTART;TZID=Europe/Paris:20261118T190000
DTEND;TZID=Europe/Paris:20261118T210000
DTSTAMP:20260422T043823
CREATED:20260121T101523Z
LAST-MODIFIED:20260121T101523Z
UID:9172-1795028400-1795035600@bisawake.com
SUMMARY:Création de mon Mandala d'après la Roue de Médecine
DESCRIPTION:
URL:https://bisawake.com/event/creation-de-mon-mandala-dapres-la-roue-de-medecine-4/
ATTACH;FMTTYPE=image/jpeg:https://bisawake.com/wp-content/uploads/2021/05/celle-qui-pese-la-verite-emma-2021-bis.jpg
END:VEVENT
BEGIN:VEVENT
DTSTART;TZID=Europe/Paris:20261203T190000
DTEND;TZID=Europe/Paris:20261203T233000
DTSTAMP:20260422T043823
CREATED:20220120T161039Z
LAST-MODIFIED:20260121T103144Z
UID:7374-1796324400-1796340600@bisawake.com
SUMMARY:Rencontre « Je développe ma créativité en lien avec les 13 Mères Originelles » – en présentiel
DESCRIPTION:
URL:https://bisawake.com/event/rencontre-je-developpe-ma-creativite-en-lien-avec-les-13-meres-originelles-en-presentiel-11/
ATTACH;FMTTYPE=image/jpeg:https://bisawake.com/wp-content/uploads/2021/12/IMG-20210513-WA0014.jpg
END:VEVENT
BEGIN:VEVENT
DTSTART;TZID=Europe/Paris:20261216T190000
DTEND;TZID=Europe/Paris:20261216T210000
DTSTAMP:20260422T043823
CREATED:20260121T101619Z
LAST-MODIFIED:20260121T101619Z
UID:9174-1797447600-1797454800@bisawake.com
SUMMARY:Création de mon Mandala d'après la Roue de Médecine
DESCRIPTION:
URL:https://bisawake.com/event/creation-de-mon-mandala-dapres-la-roue-de-medecine-5/
ATTACH;FMTTYPE=image/jpeg:https://bisawake.com/wp-content/uploads/2022/01/20211027_235138-scaled.jpg
END:VEVENT
BEGIN:VEVENT
DTSTART;TZID=Europe/Paris:20270107T190000
DTEND;TZID=Europe/Paris:20270107T233000
DTSTAMP:20260422T043823
CREATED:20220120T161221Z
LAST-MODIFIED:20260121T103226Z
UID:7378-1799348400-1799364600@bisawake.com
SUMMARY:Rencontre « Je développe ma créativité en lien avec les 13 Mères Originelles » – en présentiel
DESCRIPTION:
URL:https://bisawake.com/event/rencontre-je-developpe-ma-creativite-en-lien-avec-les-13-meres-originelles-en-presentiel-13/
ATTACH;FMTTYPE=image/jpeg:https://bisawake.com/wp-content/uploads/2021/12/IMG-20210513-WA0014.jpg
END:VEVENT
END:VCALENDAR